BEGIN:VCALENDAR
VERSION:2.0
PRODID:-//ddaysoftware.com//NONSGML DDay.iCal 1.0//EN
BEGIN:VEVENT
DESCRIPTION:Dans le cadre du développement des compétences en commerce inte
 rnational\, la CCIJ en collaboration avec la CNCI propose une formation dé
 diée à l’origine non-préférentielle et aux certificats d’origine\, afin de
  permettre aux professionnels concernés de maîtriser les exigences régleme
 ntaires liées à l’exportation de marchandises. \n   \n Thématique de la fo
 rmation \n Le certificat d'origine est un document officiel qui est utilis
 é lors d'exportations de marchandises. La nécessité d'un tel document déco
 ule des exigences des autorités des pays importateurs. Toutefois\, l’obten
 tion d’un certificat d'origine ou d’une attestation d’origine non préféren
 tielle dépend de règles bien précises et spécifiques contenues dans deux O
 rdonnances fédérales totalement indépendantes des accords de libre-échange
  que la Suisse a conclus avec d’autres pays. \n   \n Animation  \n Anne Mo
 rales\, responsable département export CNCI \n   \n Public cible \n Toute 
 personne travaillant dans un département export\, de logistique ou encore 
 au service des achats devant conserver\, fournir et faire établir des preu
 ves d’origine nationales pour l’exportation auprès d’une Chambre de commer
 ce. \n   \n Inscription \n Délai d'inscription : 29 avril 2026 Le nombre d
 e places étant limité\, les inscriptions seront prises en considération pa
 r ordre d'arrivée.  En cas de désistement après le délai d'inscription\, l
 a finance d'inscription restera due . \n  
DTEND:20260506T120000
DTSTAMP:20260422T144837Z
DTSTART:20260506T090000
LOCATION:CCIJ\, Rue de l'Avenir 23\, 2800 Delémont
SEQUENCE:0
SUMMARY:L’origine non-préférentielle\, certificats d’origine et attestation
 s diverses
UID:4b578db0-7af2-4428-8003-4585d37207e0
X-ALT-DESC;FMTTYPE=text/html:<p>Dans le cadre du d&eacute\;veloppement des 
 comp&eacute\;tences en commerce international\, la CCIJ en collaboration a
 vec la CNCI propose une formation d&eacute\;di&eacute\;e &agrave\; l&rsquo
 \;origine non-pr&eacute\;f&eacute\;rentielle et aux certificats d&rsquo\;o
 rigine\, afin de permettre aux professionnels concern&eacute\;s de ma&icir
 c\;triser les exigences r&eacute\;glementaires li&eacute\;es &agrave\; l&r
 squo\;exportation de marchandises.</p>\n<p>&nbsp\;</p>\n<h3><strong>Th&eac
 ute\;matique de la formation</strong></h3>\n<p>Le certificat d'origine est
  un document officiel qui est utilis&eacute\; lors d'exportations de march
 andises. La n&eacute\;cessit&eacute\; d'un tel document d&eacute\;coule de
 s exigences des autorit&eacute\;s des pays importateurs. Toutefois\, l&rsq
 uo\;obtention d&rsquo\;un certificat d'origine ou d&rsquo\;une attestation
  d&rsquo\;origine non pr&eacute\;f&eacute\;rentielle d&eacute\;pend de r&e
 grave\;gles bien pr&eacute\;cises et sp&eacute\;cifiques contenues dans de
 ux Ordonnances f&eacute\;d&eacute\;rales totalement ind&eacute\;pendantes 
 des accords de libre-&eacute\;change que la Suisse a conclus avec d&rsquo\
 ;autres pays.</p>\n<p>&nbsp\;</p>\n<h3><strong>Animation </strong></h3>\n<
 p>Anne Morales\, responsable d&eacute\;partement export CNCI</p>\n<p>&nbsp
 \;</p>\n<h3><strong>Public cible</strong></h3>\n<p>Toute personne travaill
 ant dans un d&eacute\;partement export\, de logistique ou encore au servic
 e des achats devant conserver\, fournir et faire &eacute\;tablir des preuv
 es d&rsquo\;origine nationales pour l&rsquo\;exportation aupr&egrave\;s d&
 rsquo\;une Chambre de commerce.</p>\n<p>&nbsp\;</p>\n<h3>Inscription</h3>\
 n<p>D&eacute\;lai d'inscription : 29 avril 2026<br /><br />Le nombre de pl
 aces &eacute\;tant limit&eacute\;\, les inscriptions seront prises en cons
 id&eacute\;ration par ordre d'arriv&eacute\;e.&nbsp\;<br /><br /><strong>E
 n cas de d&eacute\;sistement apr&egrave\;s le d&eacute\;lai d'inscription\
 , la finance d'inscription restera due</strong>.</p>\n<p>&nbsp\;</p>
END:VEVENT
END:VCALENDAR
